BEGIN:VCALENDAR
VERSION:2.0
PRODID:-//Squarespace Inc/Squarespace 6//v6//EN
BEGIN:VEVENT
UID:5ac3340203ce6421fdbef2d1@squarespace.com
DTSTAMP:20180404T081047Z
DTSTART:20180403T080000Z
DTEND:20180501T010000Z
SUMMARY:Bespoke Facial
END:VEVENT
END:VCALENDAR
