BEGIN:VCALENDAR
VERSION:2.0
PRODID:-//Squarespace Inc/Squarespace 6//v6//EN
BEGIN:VEVENT
UID:59e5af5ea9db090d36116c4f@squarespace.com
DTSTAMP:20171031T094926Z
DTSTART:20171019T110000Z
DTEND:20171201T000000Z
SUMMARY:Deep Relaxation Experience
END:VEVENT
END:VCALENDAR
