BEGIN:VCALENDAR
VERSION:2.0
PRODID:-//Squarespace Inc/Squarespace 6//v6//EN
BEGIN:VEVENT
UID:5a8d3aec419202fa34df94af@squarespace.com
DTSTAMP:20180401T200219Z
DTSTART:20180221T120000Z
DTEND:20180430T180000Z
SUMMARY:Deep Relaxation Experience
END:VEVENT
END:VCALENDAR
