BEGIN:VCALENDAR
VERSION:2.0
PRODID:-//Squarespace Inc/Squarespace 6//v6//EN
BEGIN:VEVENT
UID:59da8697f43b55edb9422bce@squarespace.com
DTSTAMP:20171008T202530Z
DTSTART:20170901T203000Z
DTEND:20171015T213000Z
SUMMARY:Invive Into Spring
END:VEVENT
END:VCALENDAR
