BEGIN:VCALENDAR
VERSION:2.0
PRODID:-//Squarespace Inc/Squarespace 6//v6//EN
BEGIN:VEVENT
UID:59e578d4d7bdce19ad92611c@squarespace.com
DTSTAMP:20180112T210920Z
DTSTART:20171127T120000Z
DTEND:20180131T210000Z
SUMMARY:INVIVE Summer Ready Experience
END:VEVENT
END:VCALENDAR
