BEGIN:VCALENDAR
VERSION:2.0
PRODID:-//Squarespace Inc/Squarespace 6//v6//EN
BEGIN:VEVENT
UID:59da84a512abd9049637e194@squarespace.com
DTSTAMP:20171031T094857Z
DTSTART:20171009T203000Z
DTEND:20171130T223000Z
SUMMARY:Two for One Essentials
END:VEVENT
END:VCALENDAR
